BEGIN:VCALENDAR
VERSION:2.0
PRODID:-//Kyalami Grand Prix Circuit - ECPv6.15.14//NONSGML v1.0//EN
CALSCALE:GREGORIAN
METHOD:PUBLISH
X-WR-CALNAME:Kyalami Grand Prix Circuit
X-ORIGINAL-URL:https://www.kyalamigrandprixcircuit.com
X-WR-CALDESC:Events for Kyalami Grand Prix Circuit
REFRESH-INTERVAL;VALUE=DURATION:PT1H
X-Robots-Tag:noindex
X-PUBLISHED-TTL:PT1H
BEGIN:VTIMEZONE
TZID:Africa/Johannesburg
BEGIN:STANDARD
TZOFFSETFROM:+0200
TZOFFSETTO:+0200
TZNAME:SAST
DTSTART:20250101T000000
END:STANDARD
END:VTIMEZONE
BEGIN:VEVENT
DTSTART;TZID=Africa/Johannesburg:20260327T080000
DTEND;TZID=Africa/Johannesburg:20260329T170000
DTSTAMP:20260425T035358
CREATED:20260209T131700Z
LAST-MODIFIED:20260209T140013Z
UID:7963-1774598400-1774803600@www.kyalamigrandprixcircuit.com
SUMMARY:HOMEMAKERS Fair 2026
DESCRIPTION:Everything Your Home Needs – In One Place  \nThinking about upgrading\, renovating or refreshing your home?\nThis is where it starts. \nFrom 27 to 29 March 2026\, the Kyalami Grand Prix Circuit transforms into a vibrant hub of home inspiration\, bringing together trusted experts\, quality products and fresh ideas to help you confidently plan your next home project. \nWith over 30 years of experience\, the expo is carefully curated to give you quality over quantity — meaning you’ll meet reliable\, vetted exhibitors across every key home improvement category\, all in one place. \nFrom building and renovation solutions to kitchens\, bathrooms\, interiors\, outdoor living\, décor and lifestyle upgrades\, you’ll find inspiration that’s practical\, relevant and designed for real homes. \n  \nThis isn’t just an exhibition — it’s your chance to:\n• Get inspired by ideas you can actually use\n• Speak directly to trusted professionals\n• Compare products\, services and quotes side by side\n• Make confident decisions about your home \nWhether you’re planning a major renovation\, refreshing a single room or simply gathering ideas for the future\, this event helps turn inspiration into action. \nGet your tickets now and start planning your visit to the HOMEMAKERS Fair 2026 — the ultimate destination for home improvement enthusiasts! \nEvent Information \nDates: 27–29 March 2026\nTimes:\n• Friday: 10:00 – 18:00\n• Saturday & Sunday: 09:00 – 18:00 \n  \nTicket Prices: \n• Adults: R140 (R130 if you buy online)\n• Pensioners: R90\n• Scholars: R50\n• Bestie’s Pass: R200 (2 Adults\, Friday only\, online tickets only)\n• Weekend Pass: R350\n• Family Pass: R330 (2 Adults & 2 Children) \n  \nParking: R30 \n  \nVenue: \nKyalami Grand Prix Circuit & International Convention Centre\, Cnr R55 &\, Allandale Rd\, Kyalami Estate\, Midrand \n  \nFollow us:  \nFacebook – https://www.facebook.com/HOMEMAKERSfair/ \nInstagram – https://www.instagram.com/homemakersfair/ \nWebsite – https://www.homemakersfair.co.za/ \n  \nWatch the 2025 Highlights Video: https://www.youtube.com/watch?v=22rEVQ3UtJo \nFor more information phone 086 111 4663 or email expo@homemakers-sa.co.za.
URL:https://www.kyalamigrandprixcircuit.com/event/homemakers-fair-2026/
LOCATION:Kyalami Grand Prix Circuit\, Cnr R55 & Allandale Road\, Midrand\, Gauteng\, 1684\, South Africa
ATTACH;FMTTYPE=image/png:https://www.kyalamigrandprixcircuit.com/wp-content/uploads/2026/02/homemakers.png
ORGANIZER;CN="Homemakers Fair":MAILTO:expo@homemakers-sa.co.za
END:VEVENT
END:VCALENDAR