BEGIN:VCALENDAR
VERSION:2.0
PRODID:-//Kyalami Grand Prix Circuit - ECPv6.15.14//NONSGML v1.0//EN
CALSCALE:GREGORIAN
METHOD:PUBLISH
X-WR-CALNAME:Kyalami Grand Prix Circuit
X-ORIGINAL-URL:https://www.kyalamigrandprixcircuit.com
X-WR-CALDESC:Events for Kyalami Grand Prix Circuit
REFRESH-INTERVAL;VALUE=DURATION:PT1H
X-Robots-Tag:noindex
X-PUBLISHED-TTL:PT1H
BEGIN:VTIMEZONE
TZID:Africa/Johannesburg
BEGIN:STANDARD
TZOFFSETFROM:+0200
TZOFFSETTO:+0200
TZNAME:SAST
DTSTART:20250101T000000
END:STANDARD
END:VTIMEZONE
BEGIN:VEVENT
DTSTART;TZID=Africa/Johannesburg:20260828T080000
DTEND;TZID=Africa/Johannesburg:20260830T180000
DTSTAMP:20260422T235342
CREATED:20260420T133557Z
LAST-MODIFIED:20260420T135700Z
UID:7993-1787904000-1788112800@www.kyalamigrandprixcircuit.com
SUMMARY:Festival of Motoring
DESCRIPTION:Legacy Meets Innovation: The 9th Festival of Motoring Unleashes a Purpose-Driven Automotive Spectacle at Kyalami \nThe roar returns to the Kyalami Grand Prix Circuit from 28–30 August 2026 as the 9th edition of the Festival of Motoring (FoM)\, powered by WesBank\, sets a new benchmark for South Africa’s ultimate automotive experience. This year’s event is anchored in a powerful theme: “Driven by Purpose. Defined by Legacy.” \nNow the largest industry-supported auto show in South Africa and on the continent\, the Festival of Motoring continues to bring together the full spectrum of the automotive world—industry leaders\, passionate enthusiasts\, and those in search of their next dream ride—for three days of high-energy action and family entertainment. \nVisitors can explore over 100 exhibitors showcasing the latest in automotive innovation\, products\, services\, lifestyle offerings\, and custom builds. From high-performance track experiences on the iconic Kyalami circuit to self-handling courses and a dedicated 4×4 off-road track\, the event delivers hands-on excitement at every turn. A vibrant selection of food\, entertainment\, and activations rounds out the experience. \nAt its core\, the Festival of Motoring is more than an event—it’s a meeting point for a nationwide community of automotive enthusiasts\, drawing visitors from over 210 cities and towns across South Africa. \nNot just a show. An experience. Driven by purpose. Defined by legacy.
URL:https://www.kyalamigrandprixcircuit.com/event/festival-of-motoring/
CATEGORIES:Motoring Events
ATTACH;FMTTYPE=image/jpeg:https://www.kyalamigrandprixcircuit.com/wp-content/uploads/2026/04/Website-Banner-2.jpg
END:VEVENT
END:VCALENDAR